Workbook
Name _UE01: DESIGN!$AP$133:$AQ$133
Name _UE03: DESIGN!$AP$133:$AU$133
Name _UE05: DESIGN!$AP$133:$AV$133
Name _UE06: DESIGN!$AP$133:$AV$133
Name _UE08: DESIGN!$AR$133:$AV$133
Name _UE18: DESIGN!$AT$133:$AV$133
Name _UG2: DESIGN!$AQ$133
Name Base: [1]DESIGN!#REF!
Name Base: [1]DESIGN!#REF!
Name Base: DESIGN!#REF!
Name BASE3: DESIGN!#REF!
Name BaseMax: [1]DESIGN!#REF!
Name BaseMax: [1]DESIGN!#REF!
Name BaseMax: DESIGN!#REF!
Name BASEmax3: DESIGN!#REF!
Name BaseMin: [1]DESIGN!#REF!
Name BaseMin: [1]DESIGN!#REF!
Name BaseMin: DESIGN!#REF!
Name BASEmin3: DESIGN!#REF!
Name ciao: DESIGN!#REF!
Name ciao: DESIGN!#REF!
Name Circuiti: [1]DESIGN!$M$78:$M$81
Name Circuiti: [1]DESIGN!$M$78:$M$81
Name Circuiti: DESIGN!#REF!
Name Circuiti3: DESIGN!#REF!
Name humidifier: DESIGN!$AA$145:$AB$151
Name language: LINGUA!$C$1:$H$1
Name LTubo: DESIGN!$AB$161:$AB$165
Name P: DESIGN!#REF!
Name P: DESIGN!#REF!
Name Pompa: [1]DESIGN!$F$94:$F$97
Name Pompa: [1]DESIGN!$F$94:$F$97
Name Pompa: DESIGN!#REF!
Name Pompa3: DESIGN!#REF!
Name Pressione: [1]DESIGN!#REF!
Name Pressione: [1]DESIGN!#REF!
Name Pressione: DESIGN!#REF!
Name Pressione3: DESIGN!#REF!
Name PressioneMax: [1]DESIGN!#REF!
Name PressioneMax: [1]DESIGN!#REF!
Name PressioneMax: DESIGN!#REF!
Name PressioneMax3: DESIGN!#REF!
Name PressioneMin: [1]DESIGN!#REF!
Name PressioneMin: [1]DESIGN!#REF!
Name PressioneMin: DESIGN!#REF!
Name PressioneMin2: DESIGN!#REF!
Name PressioneMin2: DESIGN!#REF!
Name Pressionemin3: DESIGN!#REF!
Name Primo: [1]DESIGN!#REF!
Name Primo: [1]DESIGN!#REF!
Name Primo: DESIGN!#REF!
Name Primo3: DESIGN!#REF!
Name PrimoMax: [1]DESIGN!#REF!
Name PrimoMax: [1]DESIGN!#REF!
Name PrimoMax: DESIGN!#REF!
Name PrimoMax3: DESIGN!#REF!
Name PrimoMin: [1]DESIGN!#REF!
Name PrimoMin: [1]DESIGN!#REF!
Name PrimoMin: DESIGN!#REF!
Name PrimoMin3: DESIGN!#REF!

Sheet CODICI
B1: 2016 price list
B2: Climate | D2: INSTRUCTIONS :
B3: valid from January 1st 2016 | D3: If needed change the prices in the grey cells
B5: Code | C5: Description | D5: Price list 2016 | F5: Price (selected currency)
A6: 1 | B6: DP035D22R0 | C6: =VLOOKUP(B6,LINGUA!$B:$H,2,0) -> Stainless steel steam distributor, inlet Ø=22 mm, l = 350 mm | D6: 74.6 | F6: =IF(SELECTION!$C$46="Eur",CODICI!D6,CODICI!D6*SELECTION!$C$48) -> 74.6
A7: =+A6+1 -> 2 | B7: DP045D22R0 | C7: =VLOOKUP(B7,LINGUA!$B:$H,2,0) -> Stainless steel steam distributor, inlet Ø=22 mm, l = 450 mm | D7: 85.1 | F7: =IF(SELECTION!$C$46="Eur",CODICI!D7,CODICI!D7*SELECTION!$C$48) -> 85.1
A8: =+A7+1 -> 3 | B8: DP060D22R0 | C8: =VLOOKUP(B8,LINGUA!$B:$H,2,0) -> Stainless steel steam distributor, inlet Ø=22 mm, l = 600 mm | D8: 92.5 | F8: =IF(SELECTION!$C$46="Eur",CODICI!D8,CODICI!D8*SELECTION!$C$48) -> 92.5
A9: =+A8+1 -> 4 | B9: DP085D22R0 | C9: =VLOOKUP(B9,LINGUA!$B:$H,2,0) -> Stainless steel steam distributor, inlet Ø=22 mm, l = 850 mm | D9: 114.5 | F9: =IF(SELECTION!$C$46="Eur",CODICI!D9,CODICI!D9*SELECTION!$C$48) -> 114.5
A10: =+A9+1 -> 5 | B10: DP035D30R0 | C10: =VLOOKUP(B10,LINGUA!$B:$H,2,0) -> Stainless steel steam distributor, inlet Ø=30 mm, l = 350 mm | D10: 85.1 | F10: =IF(SELECTION!$C$46="Eur",CODICI!D10,CODICI!D10*SELECTION!$C$48) -> 85.1
A11: =+A10+1 -> 6 | B11: DP045D30R0 | C11: =VLOOKUP(B11,LINGUA!$B:$H,2,0) -> Stainless steel steam distributor, inlet Ø=30 mm, l = 450 mm | D11: 103 | F11: =IF(SELECTION!$C$46="Eur",CODICI!D11,CODICI!D11*SELECTION!$C$48) -> 103
A12: =+A11+1 -> 7 | B12: DP060D30R0 | C12: =VLOOKUP(B12,LINGUA!$B:$H,2,0) -> Stainless steel steam distributor, inlet Ø=30 mm, l = 600 mm | D12: 114.5 | F12: =IF(SELECTION!$C$46="Eur",CODICI!D12,CODICI!D12*SELECTION!$C$48) -> 114.5
A13: =+A12+1 -> 8 | B13: DP085D30R0 | C13: =VLOOKUP(B13,LINGUA!$B:$H,2,0) -> Stainless steel steam distributor, inlet Ø=30 mm, l = 850 mm | D13: 140.8 | F13: =IF(SELECTION!$C$46="Eur",CODICI!D13,CODICI!D13*SELECTION!$C$48) -> 140.8
A14: =+A13+1 -> 9 | B14: DP105D30R0 | C14: =VLOOKUP(B14,LINGUA!$B:$H,2,0) -> Stainless steel steam distributor, inlet Ø=30 mm, l = 1,050 mm | D14: 152.3 | F14: =IF(SELECTION!$C$46="Eur",CODICI!D14,CODICI!D14*SELECTION!$C$48) -> 152.3
A15: =+A14+1 -> 10 | B15: DP125D30R0 | C15: =VLOOKUP(B15,LINGUA!$B:$H,2,0) -> Stainless steel steam distributor, inlet Ø=30 mm, l = 1,250 mm | D15: 157.6 | F15: =IF(SELECTION!$C$46="Eur",CODICI!D15,CODICI!D15*SELECTION!$C$48) -> 157.6
A16: =+A15+1 -> 11 | B16: DP165D30R0 | C16: =VLOOKUP(B16,LINGUA!$B:$H,2,0) -> Stainless steel steam distributor, inlet Ø=30 mm, l = 1.650 mm | D16: 162.8 | F16: =IF(SELECTION!$C$46="Eur",CODICI!D16,CODICI!D16*SELECTION!$C$48) -> 162.8
A17: =+A16+1 -> 12 | B17: DP085D40R0 | C17: =VLOOKUP(B17,LINGUA!$B:$H,2,0) -> Stainless steel steam distributor, inlet Ø=40 mm, l = 850 mm | D17: 200.6 | F17: =IF(SELECTION!$C$46="Eur",CODICI!D17,CODICI!D17*SELECTION!$C$48) -> 200.6
A18: =+A17+1 -> 13 | B18: DP105D40R0 | C18: =VLOOKUP(B18,LINGUA!$B:$H,2,0) -> Stainless steel steam distributor, inlet Ø=40 mm, l = 1,050 mm | D18: 216.4 | F18: =IF(SELECTION!$C$46="Eur",CODICI!D18,CODICI!D18*SELECTION!$C$48) -> 216.4
... A269: =+A268+1 -> 264 | B269: UE130XNC01 | C269: =VLOOKUP(B269,LINGUA!$B:$H,2,0) -> humiSteam X-plus 130 kg/h, 575Vac 3~, with regulation, cleanable cylinder | D269: 4360 | F269: =IF(SELECTION!$C$46="Eur",CODICI!D269,CODICI!D269*SELECTION!$C$48) -> 4360
A270: =+A269+1 -> 265 | B270: UR002CD002 | C270: =VLOOKUP(B270,LINGUA!$B:$H,2,0) -> heaterSteam 2 kg/h , 230Vac 1~, ON/OFF or proportional, basic version | D270: #N/A | F270: =IF(SELECTION!$C$46="Eur",CODICI!D270,CODICI!D270*SELECTION!$C$48) -> #N/A
A271: =+A270+1 -> 266 | B271: UR002CD102 | C271: =VLOOKUP(B271,LINGUA!$B:$H,2,0) -> heaterSteam 2 kg/h , 230Vac 1~, ON/OFF or proportional, full optional version | D271: #N/A | F271: =IF(SELECTION!$C$46="Eur",CODICI!D271,CODICI!D271*SELECTION!$C$48) -> #N/A
A272: =+A271+1 -> 267 | B272: UR002CU002 | C272: =VLOOKUP(B272,LINGUA!$B:$H,2,0) -> heaterSteam 2 kg/h , 208Vac 1~, ON/OFF or proportional, basic version | D272: #N/A | F272: =IF(SELECTION!$C$46="Eur",CODICI!D272,CODICI!D272*SELECTION!$C$48) -> #N/A
A273: =+A272+1 -> 268 | B273: UR002CU102 | C273: =VLOOKUP(B273,LINGUA!$B:$H,2,0) -> heaterSteam 2 kg/h , 208Vac 1~, ON/OFF or proportional, full optional version | D273: #N/A | F273: =IF(SELECTION!$C$46="Eur",CODICI!D273,CODICI!D273*SELECTION!$C$48) -> #N/A
A274: =+A273+1 -> 269 | B274: UR002HD003 | C274: =VLOOKUP(B274,LINGUA!$B:$H,2,0) -> heaterSteam process, 2 kg/h , 230Vac 1~, with regulation | D274: 1547 | F274: =IF(SELECTION!$C$46="Eur",CODICI!D274,CODICI!D274*SELECTION!$C$48) -> 1547
A275: =+A274+1 -> 270 | B275: UR002HD103 | C275: =VLOOKUP(B275,LINGUA!$B:$H,2,0) -> heaterSteam 2 kg/h , 230Vac 1~, with regulation, Titanium version | D275: 1705 | F275: =IF(SELECTION!$C$46="Eur",CODICI!D275,CODICI!D275*SELECTION!$C$48) -> 1705
A276: =+A275+1 -> 271 | B276: UR002HU002 | C276: =VLOOKUP(B276,LINGUA!$B:$H,2,0) -> heaterSteam 2 kg/h , 208Vac 1~, with regulation, basic version | D276: 1547 | F276: =IF(SELECTION!$C$46="Eur",CODICI!D276,CODICI!D276*SELECTION!$C$48) -> 1547
A277: =+A276+1 -> 272 | B277: UR002HU102 | C277: =VLOOKUP(B277,LINGUA!$B:$H,2,0) -> heaterSteam 2 kg/h , 208Vac 1~, with regulation, full optional version | D277: 1655 | F277: =IF(SELECTION!$C$46="Eur",CODICI!D277,CODICI!D277*SELECTION!$C$48) -> 1655
A278: =+A277+1 -> 273 | B278: UR004CD002 | C278: =VLOOKUP(B278,LINGUA!$B:$H,2,0) -> heaterSteam 4 kg/h , 230Vac 1~, ON/OFF or proportional, basic version | D278: #N/A | F278: =IF(SELECTION!$C$46="Eur",CODICI!D278,CODICI!D278*SELECTION!$C$48) -> #N/A
A279: =+A278+1 -> 274 | B279: UR004CD102 | C279: =VLOOKUP(B279,LINGUA!$B:$H,2,0) -> heaterSteam 4 kg/h , 230Vac 1~, ON/OFF or proportional, full optional version | D279: #N/A | F279: =IF(SELECTION!$C$46="Eur",CODICI!D279,CODICI!D279*SELECTION!$C$48) -> #N/A
A280: =+A279+1 -> 275 | B280: UR004CU002 | C280: =VLOOKUP(B280,LINGUA!$B:$H,2,0) -> heaterSteam 4 kg/h , 208Vac 1~, ON/OFF or proportional, basic version | D280: #N/A | F280: =IF(SELECTION!$C$46="Eur",CODICI!D280,CODICI!D280*SELECTION!$C$48) -> #N/A
A281: =+A280+1 -> 276 | B281: UR004CU102 | C281: =VLOOKUP(B281,LINGUA!$B:$H,2,0) -> heaterSteam 4 kg/h , 208Vac 1~, ON/OFF or proportional, full optional version | D281: #N/A | F281: =IF(SELECTION!$C$46="Eur",CODICI!D281,CODICI!D281*SELECTION!$C$48) -> #N/A
A282: =+A281+1 -> 277 | B282: UR004HD003 | C282: =VLOOKUP(B282,LINGUA!$B:$H,2,0) -> heaterSteam process, 4 kg/h , 230Vac 1~, with regulation | D282: 1655 | F282: =IF(SELECTION!$C$46="Eur",CODICI!D282,CODICI!D282*SELECTION!$C$48) -> 1655
A283: =+A282+1 -> 278 | B283: UR004HD103 | C283: =VLOOKUP(B283,LINGUA!$B:$H,2,0) -> heaterSteam 4 kg/h , 230Vac 1~, with regulation, Titanium version | D283: 1817 | F283: =IF(SELECTION!$C$46="Eur",CODICI!D283,CODICI!D283*SELECTION!$C$48) -> 1817
A284: =+A283+1 -> 279 | B284: UR004HU002 | C284: =VLOOKUP(B284,LINGUA!$B:$H,2,0) -> heaterSteam 4 kg/h , 208Vac 1~, with regulation, basic version | D284: 1655 | F284: =IF(SELECTION!$C$46="Eur",CODICI!D284,CODICI!D284*SELECTION!$C$48) -> 1655
A285: =+A284+1 -> 280 | B285: UR004HU102 | C285: =VLOOKUP(B285,LINGUA!$B:$H,2,0) -> heaterSteam 4 kg/h , 208Vac 1~, with regulation, full optional version | D285: 1764 | F285: =IF(SELECTION!$C$46="Eur",CODICI!D285,CODICI!D285*SELECTION!$C$48) -> 1764
A286: =+A285+1 -> 281 | B286: UR006CD002 | C286: =VLOOKUP(B286,LINGUA!$B:$H,2,0) -> heaterSteam 6 kg/h , 230Vac 1~, ON/OFF or proportional, basic version | D286: #N/A | F286: =IF(SELECTION!$C$46="Eur",CODICI!D286,CODICI!D286*SELECTION!$C$48) -> #N/A
A287: =+A286+1 -> 282 | B287: UR006CD102 | C287: =VLOOKUP(B287,LINGUA!$B:$H,2,0) -> heaterSteam 6 kg/h , 230Vac 1~, ON/OFF or proportional, full optional version | D287: #N/A | F287: =IF(SELECTION!$C$46="Eur",CODICI!D287,CODICI!D287*SELECTION!$C$48) -> #N/A
A288: =+A287+1 -> 283 | B288: UR006CK002 | C288: =VLOOKUP(B288,LINGUA!$B:$H,2,0) -> heaterSteam 6 kg/h , 230Vac 3~, ON/OFF or proportional, basic version | D288: #N/A | F288: =IF(SELECTION!$C$46="Eur",CODICI!D288,CODICI!D288*SELECTION!$C$48) -> #N/A
A289: =+A288+1 -> 284 | B289: UR006CK102 | C289: =VLOOKUP(B289,LINGUA!$B:$H,2,0) -> heaterSteam 6 kg/h , 230Vac 3~, ON/OFF or proportional, full optional version | D289: #N/A | F289: =IF(SELECTION!$C$46="Eur",CODICI!D289,CODICI!D289*SELECTION!$C$48) -> #N/A
A290: =+A289+1 -> 285 | B290: UR006CL002 | C290: =VLOOKUP(B290,LINGUA!$B:$H,2,0) -> heaterSteam 6 kg/h , 400Vac 3~, ON/OFF or proportional, basic version | D290: #N/A | F290: =IF(SELECTION!$C$46="Eur",CODICI!D290,CODICI!D290*SELECTION!$C$48) -> #N/A
A291: =+A290+1 -> 286 | B291: UR006CL102 | C291: =VLOOKUP(B291,LINGUA!$B:$H,2,0) -> heaterSteam 6 kg/h , 400Vac 3~, ON/OFF or proportional, full optional version | D291: #N/A | F291: =IF(SELECTION!$C$46="Eur",CODICI!D291,CODICI!D291*SELECTION!$C$48) -> #N/A
...

Sheet LINGUA
B1: If needed change the language in the grey cells DO NOT MODIFY IN ANY WAY THE FIRST THREE COLUMNS A, B AND C | C1: ENGLISH | D1: ITALIANO | E1: ENGLISH | F1: FRANCAIS | G1: DEUTSCH | H1: ESPAÑOL
B2: AZIONE AUTOMATICA | C2: SENTENCE TO INSERT | D2: FRASI DA INSERIRE | E2: SENTENCE TO INSERT | H2: FRASES A INSERTAR | J2: Unità di misura e limiti
B3: =CONCATENATE(IF(A3=1," ",""),C3) -> INSTRUCTIONS: insert input data in grey cells. Results appear in green cells. | C3: INSTRUCTIONS: insert input data in grey cells. Results appear in green cells. | D3: ISTRUZIONI: inserire i dati nelle caselle grigie. I dati elaborati compaiono nelle caselle color verde | E3: INSTRUCTIONS: insert input data in grey cells. Results appear in green cells. | F3: INSTRUCTION: insérer les données dans les cellules grisées. Les résultats apparaissent dans les cellules vert. | G3: Anleitung: Die Eingabe der Daten erfolgt in die grauen Zellen. Die berechneten Ergebnisse werden in den grün Zellen ausgegeben. | H3: INSTRUCCIONES: Insertar los datos en las casillas grises. Los datos elaborados aparecen en las casillas de color verde. | J3: mm | K3: mm
B4: =CONCATENATE(IF(A4=1," ",""),C4) -> Altitude a.s.l. | C4: Altitude a.s.l. | D4: Altitudine s.l.m. | E4: Altitude a.s.l. | F4: Altitude a.s.l | G4: Höhe ü.d.M. | H4: Altitud s.n.m. | J4: g/kg | K4: g/kg
B5: =CONCATENATE(IF(A5=1," ",""),C5) -> Altitude error | C5: Altitude error | D5: Errore altitudine | E5: Altitude error | F5: Erreur altitude | G5: Fehler Höheneingabe | H5: Error altitud | J5: m/sec | K5: m/sec
B6: =CONCATENATE(IF(A6=1," ",""),C6) -> External Air | C6: External Air | D6: Aria esterna | E6: External Air | H6: Aire en la entrada | J6: °C | K6: °C
B7: =CONCATENATE(IF(A7=1," ",""),C7) -> Air after the humidifier | C7: Air after the humidifier | D7: Aria in uscita | E7: Air after the humidifier | F7: Air après humidification | G7: Luft nach dem Befeuchter | H7: Aire en la salida | J7: m^3/h | K7: m^3/h
B8: =CONCATENATE(IF(A8=1," ",""),C8) -> m | C8: m | D8: m | E8: m | F8: m | G8: m | H8: m | J8: kg/h | K8: kg/h
B9: =CONCATENATE(IF(A9=1," ",""),C9) -> Relative humidity | C9: Relative humidity | D9: Umidità relativa | E9: Relative humidity | F9: Hygrométrie relative | G9: relative Feuchte | H9: Humedad relativa | J9: bar | K9: bar
B10: =CONCATENATE(IF(A10=1," ",""),C10) -> Temperature | C10: Temperature | D10: Temperatura | E10: Temperature | F10: Température | G10: Temperatur | H10: Temperatura | J10: Hz | K10: Hz
B11: =CONCATENATE(IF(A11=1," ",""),C11) -> Specific humidity | C11: Specific humidity | D11: Umidità specifica | E11: Specific humidity | F11: Hygrométrie spécifique | G11: absolute Feuchte | H11: Humedad específica | J11: RPM | K11: PRM
B12: =CONCATENATE(IF(A12=1," ",""),C12) -> Difference x2-x1 | C12: Difference x2-x1 | D12: Delta x2-x1 | E12: Difference x2-x1 | F12: Différence x2-x1 | G12: Differenz x2-x1 | H12: Delta x2-x1 | J12: rH | K12: rH
B13: =CONCATENATE(IF(A13=1," ",""),C13) -> The following diagram shows the isothermal transformation in red. Blue lines represent curves at a fixed relative humidity, while cyan ones are constant-enthalpy curves. | C13: The following diagram shows the isothermal transformation in red. Blue lines represent curves at a fixed relative humidity, while cyan ones are constant-enthalpy curves. | D13: Nel diagramma successivo è rappresentata in rosso la trasformazione isotermica scelta. In azzurro sono rappresentate le curve isoentalpiche mentre in blu sono riportate quelle ad umidità relativa costante. | E13: The following diagram shows the isothermal transformation in red. Blue lines represent curves at a fixed relative humidity, while cyan ones are constant-enthalpy curves. | F13: Le schéma suivant présente les transformations adiabatiques en rouge. Les lignes bleues représentent les courbes à humidité relative constante, les lignes cyans, les courbes à enthalpie constante. | G13: Das folgende Diagramm wird die Enthalpie-Veränderung durch die adiabate Befeuchtung in roter Farbe dargstellt. Die blauen Linien zeigen die relative Luftfeuchte an und Cyan gibt die konstante Enthalpien an. | H13: En el siguiente diagrama se representa en rojo la transformación isotérmica seleccionada. En azul se representan las curvas isentálpicas mientras que en celeste se muestran las de humedad relativa constante.
B14: =CONCATENATE(IF(A14=1," ",""),C14) -> Duct | C14: Duct | D14: Condotta | E14: Duct | F14: Gaine | G14: Kanal | H14: Conducto
B15: =CONCATENATE(IF(A15=1," ",""),C15) -> Internal width C1 | C15: Internal width C1 | D15: Larghezza interna C1 | E15: Internal width C1 | F15: Largeur interne C1 | G15: Innere Kanalbreite C1 | H15: Anchura interna C1
B16: =CONCATENATE(IF(A16=1," ",""),C16) -> Internal height C2 | C16: Internal height C2 | D16: Altezza interna C2 | E16: Internal height C2 | F16: Hauteur interne C2 | G16: Innere Kanalhöhe C2 | H16: Altura interna C2
B17: =CONCATENATE(IF(A17=1," ",""),C17) -> Percentage of recirculation air | C17: Percentage of recirculation air | D17: Percentuale di aria ricircolata | E17: Percentage of recirculation air | F17: Percentage of recirculation air | G17: Percentage of recirculation air | H17: Percentual de aire recirculada
B18: =CONCATENATE(IF(A18=1," ",""),C18) -> Air flow V | C18: Air flow V | D18: Portata oraria V | E18: Air flow V | F18: Débit d'air V | G18: Luftvolumenstrom V | H18: Producción horaria V
B19: =CONCATENATE(IF(A19=1," ",""),C19) -> Air flow GA | C19: Air flow GA | D19: Portata oraria GA | E19: Air flow GA | F19: Débit d'air GA | G19: Muftmassenstrom m | H19: Producción horaria GA
B20: =CONCATENATE(IF(A20=1," ",""),C20) -> Air speed | C20: Air speed | D20: Velocità dell'aria | E20: Air speed | F20: Vitesse d'air | G20: Luftgeschwindigkeit | H20: Velocidad del aire
B21: =CONCATENATE(IF(A21=1," ",""),C21) -> Total water flow Gw | C21: Total water flow Gw | D21: Acqua totale Gw | E21: Total water flow Gw | F21: Débit total d'eau Gw | G21: Gesamt-Wassermenge | H21: Agua total Gw
B22: =CONCATENATE(IF(A22=1," ",""),C22) -> Internal width too small | C22: Internal width too small | D22: Larghezza della condotta insufficiente! | E22: Internal width too small | F22: Largeur interne trop courte | G22: Innere Kanalbreite C1 zu klein | H22: ¡Anchura del conducto insuficiente!
B23: =CONCATENATE(IF(A23=1," ",""),C23) -> Internal height too small | C23: Internal height too small | D23: Altezza della condotta insufficiente! | E23: Internal height too small | F23: Hauteur interne trop courte | G23: Innere Kanalhöhe C2 zu klein | H23: ¡Altura del conducto insuficiente!
B24: =CONCATENATE(IF(A24=1," ",""),C24) -> Error | C24: Error | D24: Errore | E24: Error | F24: Erreur | G24: Fehler | H24: Error
... B31: =CONCATENATE(IF(A31=1," ",""),C31) -> Do you want it? (Yes or No)? | C31: Do you want it? (Yes or No)? | D31: Lo si vuole (Si o No)? | E31: Do you want it? (Yes or No)? | F31: Voulez-vous? (Oui ou Non)? | G31: Gewünscht? (Ja oder Nein) | H31: ¿Lo desea (Si o No)?
A32: 1 | B32: =CONCATENATE(IF(A32=1," ",""),C32) -> Yes/No? | C32: Yes/No? | D32: Si/No? | E32: Yes/No? | F32: Oui/Non? | G32: (Ja/Nein) | H32: ¿Si/No?
B33: =CONCATENATE(IF(A33=1," ",""),C33) -> Total list price | C33: Total list price | D33: Totale prezzo di listino | E33: Total list price | F33: Total prix liste | G33: Gesamt Listenpreis | H33: Total precio de lista
B34: =CONCATENATE(IF(A34=1," ",""),C34) -> Yes | C34: Yes | D34: Si | E34: Yes | F34: Oui? | G34: Ja | H34: Si
B35: =CONCATENATE(IF(A35=1," ",""),C35) -> No | C35: No | D35: No | E35: No | F35: Non | G35: Nein | H35: No
B36: =CONCATENATE(IF(A36=1," ",""),C36) -> Discount | C36: Discount | D36: Sconto | E36: Discount | F36: Remise | G36: Rabatt | H36: Descuento
B37: =CONCATENATE(IF(A37=1," ",""),C37) -> Temperature probe (0-50 °C) and humidity (10-90% rH) | C37: Temperature probe (0-50 °C) and humidity (10-90% rH) | D37: Sonda di temperatura (0..50 °C) e di umidità (10..90% rH) | E37: Temperature probe (0-50 °C) and humidity (10-90% rH) | F37: Sonde de température (0-50°C) et humidité (10-90% rH) | G37: Temperatur- (0-50°C) und Feuchtefühler (10-90% r.F.) | H37: Sonda de temperatura (0..50 °C) y de humedad (10..90% HR)
B38: =CONCATENATE(IF(A38=1," ",""),C38) -> Temperature probe (-10-70 °C) and humidity (0-100% rH) | C38: Temperature probe (-10-70 °C) and humidity (0-100% rH) | D38: Sonda di temperatura (-10..70 °C) e di umidità (0..100% rH) | E38: Temperature probe (-10-70 °C) and humidity (0-100% rH) | F38: Sonde de température (-10-70°C) et humidité (0-100% rH) | G38: Temperatur- (-10-50°C) und Feuchtefühler (0-100% r.F.) | H38: Sonda de temperatura (-10..70 °C) y de humedad (0..100% HR)
B39: =CONCATENATE(IF(A39=1," ",""),C39) -> Humidity probe 10-90% rH | C39: Humidity probe 10-90% rH | D39: Sonda d'umidità 10..90% rH | E39: Humidity probe 10-90% rH | F39: Sonde d'hygrométrie 10-90% rH | G39: Feuchtefühler (10-90% r.F.) | H39: Sonda de humedad 10..90% HR
B40: =CONCATENATE(IF(A40=1," ",""),C40) -> Humidity probe 0-100% rH | C40: Humidity probe 0-100% rH | D40: Sonda d'umidità 0..100% rH | E40: Humidity probe 0-100% rH | F40: Sonde d'hygrométrie 0-100% rH | G40: Feuchtefühler (0-100% r.F.) | H40: Sonda de humedad 0..100% HR
B41: =CONCATENATE(IF(A41=1," ",""),C41) -> Position | C41: Position | D41: Posizione | E41: Position | F41: Position | G41: Position | H41: Posición
B42: =CONCATENATE(IF(A42=1," ",""),C42) -> Code | C42: Code | D42: Articolo | E42: Code | F42: Code | G42: Code | H42: Artículo
B43: =CONCATENATE(IF(A43=1," ",""),C43) -> Price | C43: Price | D43: Prezzo | E43: Price | F43: Prix | G43: Preis | H43: Precio
B44: =CONCATENATE(IF(A44=1," ",""),C44) -> Humidifier | C44: Humidifier | D44: Umidificatore | E44: Humidifier | F44: Humidificateur | G44: Befeuchter | H44: Humidificador
... B75: =CONCATENATE(IF(A75=1," ",""),C75) -> capacity of humidifier is less than the requested load | C75: capacity of humidifier is less than the requested load | D75: capacity of humidifier is less than the requested load | E75: capacity of humidifier is less than the requested load | F75: capacity of humidifier is less than the requested load | G75: capacity of humidifier is less than the requested load | H75: capacity of humidifier is less than the requested load
B76: Codice | C76: English description | D76: Descrizione italiana | E76: English description | F76: Description en français | G76: Deutsche Version | H76: Descripción italiana
...

Sheet GRAFICI
A1: Coeff. Psat | C1: Altri coefficienti
A2: -5674.359 | B2: -5800.2206 | C2: c.s. aria J/(°C*g)= | E2: 1.006 | I2: Errore nella prima iterazione | M2: =DESIGN!W59 -> 0
A3: 6.3925247 | B3: 1.3914993 | C3: c.s. vapo J/(°C*g)= | E3: 1.805 | I3: Valore di k della prima iterazione | M3: 3
A4: -0.009677843 | B4: -0.048640239 | C4: c latente J/g= | E4: 2501
A5: 6.2215701e-07 | B5: 4.1764768e-05 | C5: R Joule/Kmole*°K= | E5: 8313.6
A6: 2.0747825e-09 | B6: -1.4452093e-08 | C6: P atm Pa = | E6: =101325*(1-$B$12*0.0000225577)^5.2559 -> 101325 | I6: Numero massimo di umidificatori ammissibili | M6: =DESIGN!E86 -> 1 | N6: Valore massimo 99
A7: -9.484024e-13 | B7: 0 | C7: f s | E7: 1.004 | I7: Percentuale da cui considerare la portata | M7: 0.5
A8: 4.1635019 | B8: 6.5459673 | C8: 0 °C = °K | E8: 273.15
A10: t start °C | B10: -5 | I10: Visualezzare possibilità raccordi (Si o No?) | M10: Si
A11: t step °C | B11: 2 | I11: Limite altezza condotta mm | M11: 200
A12: H slm m | B12: =DESIGN!E33 -> 0
N18: h | O18: h | P18: h | Q18: h | R18: h | S18: h | T18: h | U18: h | V18: h | W18: h | X18: h | Y18: h | Z18: h | AA18: h | AB18: h | AC18: h | AD18: h | AE18: h | AF18: h | AG18: h | AH18: h | AI18: h | AJ18: h | AK18: h | AL18: h | AM18: h | AN18: h | AO18: h | AP18: h | AQ18: h | AR18: h
N19: =$E$2*N20+N21*($E$4+$E$3*N20)/1000 -> 1.1690961 | O19: =$E$2*O20+O21*($E$4+$E$3*O20)/1000 -> 4.3434678 | P19: =$E$2*P20+P21*($E$4+$E$3*P20)/1000 -> 7.7148858 | Q19: =$E$2*Q20+Q21*($E$4+$E$3*Q20)/1000 -> 11.207643 | R19: =$E$2*R20+R21*($E$4+$E$3*R20)/1000 -> 14.815988 | S19: =$E$2*S20+S21*($E$4+$E$3*S20)/1000 -> 18.644486 | T19: =$E$2*T20+T21*($E$4+$E$3*T20)/1000 -> 22.719588 | U19: =$E$2*U20+U21*($E$4+$E$3*U20)/1000 -> 27.070527 | ... AR19: =$E$2*AR20+AR21*($E$4+$E$3*AR20)/1000 -> 354.62536
D20: x da UR | N20: =$B$10 -> -5 | O20: =N20+$B$11 -> -3 | P20: =O20+$B$11 -> -1 | Q20: =P20+$B$11 -> 1 | R20: =Q20+$B$11 -> 3 | S20: =R20+$B$11 -> 5 | T20: =S20+$B$11 -> 7 | U20: =T20+$B$11 -> 9 | V20: =U20+$B$11 -> 11 | ... AR20: =AQ20+$B$11 -> 55
A21: t °C | B21: T °K | C21: Pvs Pa | D21: 0.1 | E21: 0.2 | F21: 0.3 | G21: 0.4 | H21: 0.5 | I21: 0.6 | J21: 0.7 | K21: 0.8 | L21: 0.9 | M21: 1 | N21: =M22 -> 2.4876237 | O21: =M23 -> 2.9497965 | P21: =M24 -> 3.489478 | Q21: =M25 -> 4.0760839 | R21: =M26 -> 4.7071165 | S21: =M27 -> 5.424044 | T21: =M28 -> 6.2370185 | U21: =M29 -> 7.1572403 | V21: =M30 -> 8.1970617 | W21: =M31 -> 9.3701022 | X21: =M32 -> 10.691379 | Y21: =M33 -> 12.177454 | Z21: =M34 -> 13.846603 | AA21: =M35 -> 15.719007 | AB21: =M36 -> 17.816972 | AC21: =M37 -> 20.165186 | AD21: =M38 -> 22.791016 | AE21: =M39 -> 25.724852 | AF21: =M40 -> 29.000515 | AG21: =M41 -> 32.65574 | AH21: =M42 -> 36.73274 | AI21: =M43 -> 41.278886 | AJ21: =M44 -> 46.347525 | AK21: =M45 -> 51.998956 | AL21: =M46 -> 58.301625 | AM21: =M47 -> 65.333575 | AN21: =M48 -> 73.184234 | AO21: =M49 -> 81.956624 | AP21: =M50 -> 91.770121 | AQ21: =M51 -> 102.76392 | AR21: =M52 -> 115.10143
A22: =$B$10 -> -5 | B22: =A22+$E$8 -> 268.15 | C22: =IF(A22<0,EXP($A$2/B22+$A$3+$A$4*B22+$A$5*(B22^2)+$A$6*(B22^3)+$A$7*(B22^4)+$A$8*LN(B22)),EXP($B$2/B22+$B$3+$B$4*B22+$B$5*(B22^2)+$B$6*(B22^3)+$B$7*(B22^4)+$B$8*LN(B22))) -> 402.02926 | D22: =0.62198*1000*$E$7*D$21*$C22/($E$6-$E$7*D$21*$C22) -> 0.24787014 | E22: =0.62198*1000*$E$7*E$21*$C22/($E$6-$E$7*E$21*$C22) -> 0.49593793 | F22: =0.62198*1000*$E$7*F$21*$C22/($E$6-$E$7*F$21*$C22) -> 0.74420359 | G22: =0.62198*1000*$E$7*G$21*$C22/($E$6-$E$7*G$21*$C22) -> 0.99266736 | H22: =0.62198*1000*$E$7*H$21*$C22/($E$6-$E$7*H$21*$C22) -> 1.2413295 | I22: =0.62198*1000*$E$7*I$21*$C22/($E$6-$E$7*I$21*$C22) -> 1.4901902 | J22: =0.62198*1000*$E$7*J$21*$C22/($E$6-$E$7*J$21*$C22) -> 1.7392497 | K22: =0.62198*1000*$E$7*K$21*$C22/($E$6-$E$7*K$21*$C22) -> 1.9885083 | ... M22: =0.62198*1000*$E$7*M$21*$C22/($E$6-$E$7*M$21*$C22) -> 2.4876237 | N22: =1000*(N$19-$E$2*$A22)/($E$4+$E$3*$A22) -> 2.4876237 | O22: =1000*(O$19-$E$2*$A22)/($E$4+$E$3*$A22) -> 3.7614614 | P22: =1000*(P$19-$E$2*$A22)/($E$4+$E$3*$A22) -> 5.1143715 | Q22: =1000*(Q$19-$E$2*$A22)/($E$4+$E$3*$A22) -> 6.5159735 | R22: =1000*(R$19-$E$2*$A22)/($E$4+$E$3*$A22) -> 7.9639593 | S22: =1000*(S$19-$E$2*$A22)/($E$4+$E$3*$A22) -> 9.5002904 | T22: =1000*(T$19-$E$2*$A22)/($E$4+$E$3*$A22) -> 11.13558 | U22: =1000*(U$19-$E$2*$A22)/($E$4+$E$3*$A22) -> 12.881561 | ... AR22: =1000*(AR$19-$E$2*$A22)/($E$4+$E$3*$A22) -> 144.32543
A23: =A22+$B$11 -> -3 | B23: =A23+$E$8 -> 270.15 | C23: =IF(A23<0,EXP($A$2/B23+$A$3+$A$4*B23+$A$5*(B23^2)+$A$6*(B23^3)+$A$7*(B23^4)+$A$8*LN(B23)),EXP($B$2/B23+$B$3+$B$4*B23+$B$5*(B23^2)+$B$6*(B23^3)+$B$7*(B23^4)+$B$8*LN(B23))) -> 476.36925 | D23: =0.62198*1000*$E$7*D$21*$C23/($E$6-$E$7*D$21*$C23) -> 0.29372593 | E23: =0.62198*1000*$E$7*E$21*$C23/($E$6-$E$7*E$21*$C23) -> 0.58772941 | F23: =0.62198*1000*$E$7*F$21*$C23/($E$6-$E$7*F$21*$C23) -> 0.88201083 | G23: =0.62198*1000*$E$7*G$21*$C23/($E$6-$E$7*G$21*$C23) -> 1.1765706 | H23: =0.62198*1000*$E$7*H$21*$C23/($E$6-$E$7*H$21*$C23) -> 1.4714091 | I23: =0.62198*1000*$E$7*I$21*$C23/($E$6-$E$7*I$21*$C23) -> 1.7665267 | J23: =0.62198*1000*$E$7*J$21*$C23/($E$6-$E$7*J$21*$C23) -> 2.0619239 | K23: =0.62198*1000*$E$7*K$21*$C23/($E$6-$E$7*K$21*$C23) -> 2.357601 | ... M23: =0.62198*1000*$E$7*M$21*$C23/($E$6-$E$7*M$21*$C23) -> 2.9497965 | N23: =1000*(N$19-$E$2*$A23)/($E$4+$E$3*$A23) -> 1.6778014 | O23: =1000*(O$19-$E$2*$A23)/($E$4+$E$3*$A23) -> 2.9497965 | P23: =1000*(P$19-$E$2*$A23)/($E$4+$E$3*$A23) -> 4.3007495 | Q23: =1000*(Q$19-$E$2*$A23)/($E$4+$E$3*$A23) -> 5.700324 | R23: =1000*(R$19-$E$2*$A23)/($E$4+$E$3*$A23) -> 7.1462152 | S23: =1000*(S$19-$E$2*$A23)/($E$4+$E$3*$A23) -> 8.6803239 | T23: =1000*(T$19-$E$2*$A23)/($E$4+$E$3*$A23) -> 10.313248 | U23: =1000*(U$19-$E$2*$A23)/($E$4+$E$3*$A23) -> 12.056703 | ... AR23: =1000*(AR$19-$E$2*$A23)/($E$4+$E$3*$A23) -> 143.31043
A24: =A23+$B$11 -> -1 | B24: =A24+$E$8 -> 272.15 | C24: =IF(A24<0,EXP($A$2/B24+$A$3+$A$4*B24+$A$5*(B24^2)+$A$6*(B24^3)+$A$7*(B24^4)+$A$8*LN(B24)),EXP($B$2/B24+$B$3+$B$4*B24+$B$5*(B24^2)+$B$6*(B24^3)+$B$7*(B24^4)+$B$8*LN(B24))) -> 563.03739 | D24: =0.62198*1000*$E$7*D$21*$C24/($E$6-$E$7*D$21*$C24) -> 0.34719472 | E24: =0.62198*1000*$E$7*E$21*$C24/($E$6-$E$7*E$21*$C24) -> 0.69477728 | F24: =0.62198*1000*$E$7*F$21*$C24/($E$6-$E$7*F$21*$C24) -> 1.0427483 | G24: =0.62198*1000*$E$7*G$21*$C24/($E$6-$E$7*G$21*$C24) -> 1.3911085 | H24: =0.62198*1000*$E$7*H$21*$C24/($E$6-$E$7*H$21*$C24) -> 1.7398584 | I24: =0.62198*1000*$E$7*I$21*$C24/($E$6-$E$7*I$21*$C24) -> 2.0889988 | J24: =0.62198*1000*$E$7*J$21*$C24/($E$6-$E$7*J$21*$C24) -> 2.4385303 | K24: =0.62198*1000*$E$7*K$21*$C24/($E$6-$E$7*K$21*$C24) -> 2.7884536 | ... M24: =0.62198*1000*$E$7*M$21*$C24/($E$6-$E$7*M$21*$C24) -> 3.489478 | N24: =1000*(N$19-$E$2*$A24)/($E$4+$E$3*$A24) -> 0.87031867 | O24: =1000*(O$19-$E$2*$A24)/($E$4+$E$3*$A24) -> 2.1404764 | P24: =1000*(P$19-$E$2*$A24)/($E$4+$E$3*$A24) -> 3.489478 | Q24: =1000*(Q$19-$E$2*$A24)/($E$4+$E$3*$A24) -> 4.8870309 | R24: =1000*(R$19-$E$2*$A24)/($E$4+$E$3*$A24) -> 6.3308335 | S24: =1000*(S$19-$E$2*$A24)/($E$4+$E$3*$A24) -> 7.8627262 | T24: =1000*(T$19-$E$2*$A24)/($E$4+$E$3*$A24) -> 9.493292 | U24: =1000*(U$19-$E$2*$A24)/($E$4+$E$3*$A24) -> 11.234228 | ... AR24: =1000*(AR$19-$E$2*$A24)/($E$4+$E$3*$A24) -> 142.29836
A25: =A24+$B$11 -> 1 | B25: =A25+$E$8 -> 274.15 | C25: =IF(A25<0,EXP($A$2/B25+$A$3+$A$4*B25+$A$5*(B25^2)+$A$6*(B25^3)+$A$7*(B25^4)+$A$8*LN(B25)),EXP($B$2/B25+$B$3+$B$4*B25+$B$5*(B25^2)+$B$6*(B25^3)+$B$7*(B25^4)+$B$8*LN(B25))) -> 657.07172 | D25: =0.62198*1000*$E$7*D$21*$C25/($E$6-$E$7*D$21*$C25) -> 0.40521839 | E25: =0.62198*1000*$E$7*E$21*$C25/($E$6-$E$7*E$21*$C25) -> 0.81096512 | F25: =0.62198*1000*$E$7*F$21*$C25/($E$6-$E$7*F$21*$C25) -> 1.2172412 | G25: =0.62198*1000*$E$7*G$21*$C25/($E$6-$E$7*G$21*$C25) -> 1.6240477 | H25: =0.62198*1000*$E$7*H$21*$C25/($E$6-$E$7*H$21*$C25) -> 2.0313857 | I25: =0.62198*1000*$E$7*I$21*$C25/($E$6-$E$7*I$21*$C25) -> 2.4392562 | J25: =0.62198*1000*$E$7*J$21*$C25/($E$6-$E$7*J$21*$C25) -> 2.8476602 | K25: =0.62198*1000*$E$7*K$21*$C25/($E$6-$E$7*K$21*$C25) -> 3.2565988 | ... M25: =0.62198*1000*$E$7*M$21*$C25/($E$6-$E$7*M$21*$C25) -> 4.0760839 | N25: =1000*(N$19-$E$2*$A25)/($E$4+$E$3*$A25) -> 0.065165309 | O25: =1000*(O$19-$E$2*$A25)/($E$4+$E$3*$A25) -> 1.333491 | P25: =1000*(P$19-$E$2*$A25)/($E$4+$E$3*$A25) -> 2.6805468 | Q25: =1000*(Q$19-$E$2*$A25)/($E$4+$E$3*$A25) -> 4.0760839 | R25: =1000*(R$19-$E$2*$A25)/($E$4+$E$3*$A25) -> 5.517804 | S25: =1000*(S$19-$E$2*$A25)/($E$4+$E$3*$A25) -> 7.0474872 | T25: =1000*(T$19-$E$2*$A25)/($E$4+$E$3*$A25) -> 8.675701 | U25: =1000*(U$19-$E$2*$A25)/($E$4+$E$3*$A25) -> 10.414126 | ... AR25: =1000*(AR$19-$E$2*$A25)/($E$4+$E$3*$A25) -> 141.28922
A26: =A25+$B$11 -> 3 | B26: =A26+$E$8 -> 276.15 | C26: =IF(A26<0,EXP($A$2/B26+$A$3+$A$4*B26+$A$5*(B26^2)+$A$6*(B26^3)+$A$7*(B26^4)+$A$8*LN(B26)),EXP($B$2/B26+$B$3+$B$4*B26+$B$5*(B26^2)+$B$6*(B26^3)+$B$7*(B26^4)+$B$8*LN(B26))) -> 758.03121 | D26: =0.62198*1000*$E$7*D$21*$C26/($E$6-$E$7*D$21*$C26) -> 0.46752725 | E26: =0.62198*1000*$E$7*E$21*$C26/($E$6-$E$7*E$21*$C26) -> 0.93575789 | F26: =0.62198*1000*$E$7*F$21*$C26/($E$6-$E$7*F$21*$C26) -> 1.4046935 | G26: =0.62198*1000*$E$7*G$21*$C26/($E$6-$E$7*G$21*$C26) -> 1.8743357 | H26: =0.62198*1000*$E$7*H$21*$C26/($E$6-$E$7*H$21*$C26) -> 2.344686 | I26: =0.62198*1000*$E$7*I$21*$C26/($E$6-$E$7*I$21*$C26) -> 2.8157462 | J26: =0.62198*1000*$E$7*J$21*$C26/($E$6-$E$7*J$21*$C26) -> 3.2875176 | K26: =0.62198*1000*$E$7*K$21*$C26/($E$6-$E$7*K$21*$C26) -> 3.7600021 | ... M26: =0.62198*1000*$E$7*M$21*$C26/($E$6-$E$7*M$21*$C26) -> 4.7071165 | N26: =1000*(N$19-$E$2*$A26)/($E$4+$E$3*$A26) -> -0.73766872 | O26: =1000*(O$19-$E$2*$A26)/($E$4+$E$3*$A26) -> 0.52883016 | P26: =1000*(P$19-$E$2*$A26)/($E$4+$E$3*$A26) -> 1.8739458 | Q26: =1000*(Q$19-$E$2*$A26)/($E$4+$E$3*$A26) -> 3.2674729 | R26: =1000*(R$19-$E$2*$A26)/($E$4+$E$3*$A26) -> 4.7071165 | S26: =1000*(S$19-$E$2*$A26)/($E$4+$E$3*$A26) -> 6.2345965 | T26: =1000*(T$19-$E$2*$A26)/($E$4+$E$3*$A26) -> 7.8604652 | U26: =1000*(U$19-$E$2*$A26)/($E$4+$E$3*$A26) -> 9.5963866 | ... AR26: =1000*(AR$19-$E$2*$A26)/($E$4+$E$3*$A26) -> 140.28298
A27: =A26+$B$11 -> 5 | B27: =A27+$E$8 -> 278.15 | C27: =IF(A27<0,EXP($A$2/B27+$A$3+$A$4*B27+$A$5*(B27^2)+$A$6*(B27^3)+$A$7*(B27^4)+$A$8*LN(B27)),EXP($B$2/B27+$B$3+$B$4*B27+$B$5*(B27^2)+$B$6*(B27^3)+$B$7*(B27^4)+$B$8*LN(B27))) -> 872.48665 | D27: =0.62198*1000*$E$7*D$21*$C27/($E$6-$E$7*D$21*$C27) -> 0.53818047 | E27: =0.62198*1000*$E$7*E$21*$C27/($E$6-$E$7*E$21*$C27) -> 1.0772931 | F27: =0.62198*1000*$E$7*F$21*$C27/($E$6-$E$7*F$21*$C27) -> 1.6173403 | G27: =0.62198*1000*$E$7*G$21*$C27/($E$6-$E$7*G$21*$C27) -> 2.1583245 | H27: =0.62198*1000*$E$7*H$21*$C27/($E$6-$E$7*H$21*$C27) -> 2.7002481 | I27: =0.62198*1000*$E$7*I$21*$C27/($E$6-$E$7*I$21*$C27) -> 3.2431137 | J27: =0.62198*1000*$E$7*J$21*$C27/($E$6-$E$7*J$21*$C27) -> 3.7869235 | K27: =0.62198*1000*$E$7*K$21*$C27/($E$6-$E$7*K$21*$C27) -> 4.3316803 | ... M27: =0.62198*1000*$E$7*M$21*$C27/($E$6-$E$7*M$21*$C27) -> 5.424044 | N27: =1000*(N$19-$E$2*$A27)/($E$4+$E$3*$A27) -> -1.5381934 | O27: =1000*(O$19-$E$2*$A27)/($E$4+$E$3*$A27) -> -0.27351606 | P27: =1000*(P$19-$E$2*$A27)/($E$4+$E$3*$A27) -> 1.069665 | Q27: =1000*(Q$19-$E$2*$A27)/($E$4+$E$3*$A27) -> 2.4611879 | R27: =1000*(R$19-$E$2*$A27)/($E$4+$E$3*$A27) -> 3.898761 | S27: =1000*(S$19-$E$2*$A27)/($E$4+$E$3*$A27) -> 5.424044 | T27: =1000*(T$19-$E$2*$A27)/($E$4+$E$3*$A27) -> 7.0475744 | U27: =1000*(U$19-$E$2*$A27)/($E$4+$E$3*$A27) -> 8.7809991 | ... AR27: =1000*(AR$19-$E$2*$A27)/($E$4+$E$3*$A27) -> 139.27963
A28: =A27+$B$11 -> 7 | B28: =A28+$E$8 -> 280.15 | C28: =IF(A28<0,EXP($A$2/B28+$A$3+$A$4*B28+$A$5*(B28^2)+$A$6*(B28^3)+$A$7*(B28^4)+$A$8*LN(B28)),EXP($B$2/B28+$B$3+$B$4*B28+$B$5*(B28^2)+$B$6*(B28^3)+$B$7*(B28^4)+$B$8*LN(B28))) -> 1001.9596 | D28: =0.62198*1000*$E$7*D$21*$C28/($E$6-$E$7*D$21*$C28) -> 0.61812333 | E28: =0.62198*1000*$E$7*E$21*$C28/($E$6-$E$7*E$21*$C28) -> 1.2374765 | F28: =0.62198*1000*$E$7*F$21*$C28/($E$6-$E$7*F$21*$C28) -> 1.8580631 | G28: =0.62198*1000*$E$7*G$21*$C28/($E$6-$E$7*G$21*$C28) -> 2.4798869 | H28: =0.62198*1000*$E$7*H$21*$C28/($E$6-$E$7*H$21*$C28) -> 3.1029515 | I28: =0.62198*1000*$E$7*I$21*$C28/($E$6-$E$7*I$21*$C28) -> 3.7272608 | J28: =0.62198*1000*$E$7*J$21*$C28/($E$6-$E$7*J$21*$C28) -> 4.3528183 | K28: =0.62198*1000*$E$7*K$21*$C28/($E$6-$E$7*K$21*$C28) -> 4.9796279 | ... M28: =0.62198*1000*$E$7*M$21*$C28/($E$6-$E$7*M$21*$C28) -> 6.2370185 | N28: =1000*(N$19-$E$2*$A28)/($E$4+$E$3*$A28) -> -2.3364187 | O28: =1000*(O$19-$E$2*$A28)/($E$4+$E$3*$A28) -> -1.0735577 | P28: =1000*(P$19-$E$2*$A28)/($E$4+$E$3*$A28) -> 0.26769433 | Q28: =1000*(Q$19-$E$2*$A28)/($E$4+$E$3*$A28) -> 1.6572188 | R28: =1000*(R$19-$E$2*$A28)/($E$4+$E$3*$A28) -> 3.0927273 | S28: =1000*(S$19-$E$2*$A28)/($E$4+$E$3*$A28) -> 4.6158198 | T28: =1000*(T$19-$E$2*$A28)/($E$4+$E$3*$A28) -> 6.2370185 | U28: =1000*(U$19-$E$2*$A28)/($E$4+$E$3*$A28) -> 7.9679537 | ... AR28: =1000*(AR$19-$E$2*$A28)/($E$4+$E$3*$A28) -> 138.27917
A29: =A28+$B$11 -> 9 | B29: =A29+$E$8 -> 282.15 | C29: =IF(A29<0,EXP($A$2/B29+$A$3+$A$4*B29+$A$5*(B29^2)+$A$6*(B29^3)+$A$7*(B29^4)+$A$8*LN(B29)),EXP($B$2/B29+$B$3+$B$4*B29+$B$5*(B29^2)+$B$6*(B29^3)+$B$7*(B29^4)+$B$8*LN(B29))) -> 1148.109 | D29: =0.62198*1000*$E$7*D$21*$C29/($E$6-$E$7*D$21*$C29) -> 0.70838763 | E29: =0.62198*1000*$E$7*E$21*$C29/($E$6-$E$7*E$21*$C29) -> 1.4183907 | F29: =0.62198*1000*$E$7*F$21*$C29/($E$6-$E$7*F$21*$C29) -> 2.1300148 | G29: =0.62198*1000*$E$7*G$21*$C29/($E$6-$E$7*G$21*$C29) -> 2.8432653 | H29: =0.62198*1000*$E$7*H$21*$C29/($E$6-$E$7*H$21*$C29) -> 3.558148 | I29: =0.62198*1000*$E$7*I$21*$C29/($E$6-$E$7*I$21*$C29) -> 4.2746684 | J29: =0.62198*1000*$E$7*J$21*$C29/($E$6-$E$7*J$21*$C29) -> 4.9928322 | K29: =0.62198*1000*$E$7*K$21*$C29/($E$6-$E$7*K$21*$C29) -> 5.7126449 | ... M29: =0.62198*1000*$E$7*M$21*$C29/($E$6-$E$7*M$21*$C29) -> 7.1572403 | N29: =1000*(N$19-$E$2*$A29)/($E$4+$E$3*$A29) -> -3.1323546 | O29: =1000*(O$19-$E$2*$A29)/($E$4+$E$3*$A29) -> -1.8713046 | P29: =1000*(P$19-$E$2*$A29)/($E$4+$E$3*$A29) -> -0.53197609 | Q29: =1000*(Q$19-$E$2*$A29)/($E$4+$E$3*$A29) -> 0.85555565 | R29: =1000*(R$19-$E$2*$A29)/($E$4+$E$3*$A29) -> 2.2890054 | S29: =1000*(S$19-$E$2*$A29)/($E$4+$E$3*$A29) -> 3.8099137 | T29: =1000*(T$19-$E$2*$A29)/($E$4+$E$3*$A29) -> 5.4287874 | U29: =1000*(U$19-$E$2*$A29)/($E$4+$E$3*$A29) -> 7.1572403 | ... AR29: =1000*(AR$19-$E$2*$A29)/($E$4+$E$3*$A29) -> 137.28158
A30: =A29+$B$11 -> 11 | B30: =A30+$E$8 -> 284.15 | C30: =IF(A30<0,EXP($A$2/B30+$A$3+$A$4*B30+$A$5*(B30^2)+$A$6*(B30^3)+$A$7*(B30^4)+$A$8*LN(B30)),EXP($B$2/B30+$B$3+$B$4*B30+$B$5*(B30^2)+$B$6*(B30^3)+$B$7*(B30^4)+$B$8*LN(B30))) -> 1312.7394 | D30: =0.62198*1000*$E$7*D$21*$C30/($E$6-$E$7*D$21*$C30) -> 0.81009754 | E30: =0.62198*1000*$E$7*E$21*$C30/($E$6-$E$7*E$21*$C30) -> 1.622308 | F30: =0.62198*1000*$E$7*F$21*$C30/($E$6-$E$7*F$21*$C30) -> 2.4366398 | G30: =0.62198*1000*$E$7*G$21*$C30/($E$6-$E$7*G$21*$C30) -> 3.2531011 | H30: =0.62198*1000*$E$7*H$21*$C30/($E$6-$E$7*H$21*$C30) -> 4.0717004 | I30: =0.62198*1000*$E$7*I$21*$C30/($E$6-$E$7*I$21*$C30) -> 4.892446 | J30: =0.62198*1000*$E$7*J$21*$C30/($E$6-$E$7*J$21*$C30) -> 5.7153465 | K30: =0.62198*1000*$E$7*K$21*$C30/($E$6-$E$7*K$21*$C30) -> 6.5404102 | ... M30: =0.62198*1000*$E$7*M$21*$C30/($E$6-$E$7*M$21*$C30) -> 8.1970617 | N30: =1000*(N$19-$E$2*$A30)/($E$4+$E$3*$A30) -> -3.9260108 | O30: =1000*(O$19-$E$2*$A30)/($E$4+$E$3*$A30) -> -2.6667667 | P30: =1000*(P$19-$E$2*$A30)/($E$4+$E$3*$A30) -> -1.3293562 | Q30: =1000*(Q$19-$E$2*$A30)/($E$4+$E$3*$A30) -> 0.056188545 | R30: =1000*(R$19-$E$2*$A30)/($E$4+$E$3*$A30) -> 1.4875856 | S30: =1000*(S$19-$E$2*$A30)/($E$4+$E$3*$A30) -> 3.0063158 | T30: =1000*(T$19-$E$2*$A30)/($E$4+$E$3*$A30) -> 4.6228712 | U30: =1000*(U$19-$E$2*$A30)/($E$4+$E$3*$A30) -> 6.3488488 | ... AR30: =1000*(AR$19-$E$2*$A30)/($E$4+$E$3*$A30) -> 136.28684
A31: =A30+$B$11 -> 13 | B31: =A31+$E$8 -> 286.15 | C31: =IF(A31<0,EXP($A$2/B31+$A$3+$A$4*B31+$A$5*(B31^2)+$A$6*(B31^3)+$A$7*(B31^4)+$A$8*LN(B31)),EXP($B$2/B31+$B$3+$B$4*B31+$B$5*(B31^2)+$B$6*(B31^3)+$B$7*(B31^4)+$B$8*LN(B31))) -> 1497.8108 | D31: =0.62198*1000*$E$7*D$21*$C31/($E$6-$E$7*D$21*$C31) -> 0.92447575 | E31: =0.62198*1000*$E$7*E$21*$C31/($E$6-$E$7*E$21*$C31) -> 1.8517038 | F31: =0.62198*1000*$E$7*F$21*$C31/($E$6-$E$7*F$21*$C31) -> 2.7816964 | G31: =0.62198*1000*$E$7*G$21*$C31/($E$6-$E$7*G$21*$C31) -> 3.7144659 | H31: =0.62198*1000*$E$7*H$21*$C31/($E$6-$E$7*H$21*$C31) -> 4.6500249 | I31: =0.62198*1000*$E$7*I$21*$C31/($E$6-$E$7*I$21*$C31) -> 5.5883858 | J31: =0.62198*1000*$E$7*J$21*$C31/($E$6-$E$7*J$21*$C31) -> 6.5295612 | K31: =0.62198*1000*$E$7*K$21*$C31/($E$6-$E$7*K$21*$C31) -> 7.4735639 | ... M31: =0.62198*1000*$E$7*M$21*$C31/($E$6-$E$7*M$21*$C31) -> 9.3701022 | N31: =1000*(N$19-$E$2*$A31)/($E$4+$E$3*$A31) -> -4.7173971 | O31: =1000*(O$19-$E$2*$A31)/($E$4+$E$3*$A31) -> -3.4599538 | P31: =1000*(P$19-$E$2*$A31)/($E$4+$E$3*$A31) -> -2.1244557 | Q31: =1000*(Q$19-$E$2*$A31)/($E$4+$E$3*$A31) -> -0.74089236 | R31: =1000*(R$19-$E$2*$A31)/($E$4+$E$3*$A31) -> 0.68845776 | S31: =1000*(S$19-$E$2*$A31)/($E$4+$E$3*$A31) -> 2.2050162 | T31: =1000*(T$19-$E$2*$A31)/($E$4+$E$3*$A31) -> 3.8192599 | U31: =1000*(U$19-$E$2*$A31)/($E$4+$E$3*$A31) -> 5.5427694 | ... AR31: =1000*(AR$19-$E$2*$A31)/($E$4+$E$3*$A31) -> 135.29495
A32: =A31+$B$11 -> 15 | B32: =A32+$E$8 -> 288.15 | C32: =IF(A32<0,EXP($A$2/B32+$A$3+$A$4*B32+$A$5*(B32^2)+$A$6*(B32^3)+$A$7*(B32^4)+$A$8*LN(B32)),EXP($B$2/B32+$B$3+$B$4*B32+$B$5*(B32^2)+$B$6*(B32^3)+$B$7*(B32^4)+$B$8*LN(B32))) -> 1705.4478 | D32: =0.62198*1000*$E$7*D$21*$C32/($E$6-$E$7*D$21*$C32) -> 1.0528499 | E32: =0.62198*1000*$E$7*E$21*$C32/($E$6-$E$7*E$21*$C32) -> 2.1092703 | F32: =0.62198*1000*$E$7*F$21*$C32/($E$6-$E$7*F$21*$C32) -> 3.1692793 | G32: =0.62198*1000*$E$7*G$21*$C32/($E$6-$E$7*G$21*$C32) -> 4.2328953 | H32: =0.62198*1000*$E$7*H$21*$C32/($E$6-$E$7*H$21*$C32) -> 5.3001367 | I32: =0.62198*1000*$E$7*I$21*$C32/($E$6-$E$7*I$21*$C32) -> 6.371022 | J32: =0.62198*1000*$E$7*J$21*$C32/($E$6-$E$7*J$21*$C32) -> 7.44557 | K32: =0.62198*1000*$E$7*K$21*$C32/($E$6-$E$7*K$21*$C32) -> 8.5237995 | ... M32: =0.62198*1000*$E$7*M$21*$C32/($E$6-$E$7*M$21*$C32) -> 10.691379 | N32: =1000*(N$19-$E$2*$A32)/($E$4+$E$3*$A32) -> -5.5065233 | O32: =1000*(O$19-$E$2*$A32)/($E$4+$E$3*$A32) -> -4.2508755 | P32: =1000*(P$19-$E$2*$A32)/($E$4+$E$3*$A32) -> -2.9172846 | Q32: =1000*(Q$19-$E$2*$A32)/($E$4+$E$3*$A32) -> -1.5356969 | R32: =1000*(R$19-$E$2*$A32)/($E$4+$E$3*$A32) -> -0.1083878 | S32: =1000*(S$19-$E$2*$A32)/($E$4+$E$3*$A32) -> 1.406005 | T32: =1000*(T$19-$E$2*$A32)/($E$4+$E$3*$A32) -> 3.0179436 | U32: =1000*(U$19-$E$2*$A32)/($E$4+$E$3*$A32) -> 4.738992 | ... AR32: =1000*(AR$19-$E$2*$A32)/($E$4+$E$3*$A32) -> 134.30589
A33: =A32+$B$11 -> 17 | B33: =A33+$E$8 -> 290.15 | C33: =IF(A33<0,EXP($A$2/B33+$A$3+$A$4*B33+$A$5*(B33^2)+$A$6*(B33^3)+$A$7*(B33^4)+$A$8*LN(B33)),EXP($B$2/B33+$B$3+$B$4*B33+$B$5*(B33^2)+$B$6*(B33^3)+$B$7*(B33^4)+$B$8*LN(B33))) -> 1937.9488 | D33: =0.62198*1000*$E$7*D$21*$C33/($E$6-$E$7*D$21*$C33) -> 1.1966595 | E33: =0.62198*1000*$E$7*E$21*$C33/($E$6-$E$7*E$21*$C33) -> 2.3979324 | F33: =0.62198*1000*$E$7*F$21*$C33/($E$6-$E$7*F$21*$C33) -> 3.6038456 | G33: =0.62198*1000*$E$7*G$21*$C33/($E$6-$E$7*G$21*$C33) -> 4.814426 | H33: =0.62198*1000*$E$7*H$21*$C33/($E$6-$E$7*H$21*$C33) -> 6.0297007 | I33: =0.62198*1000*$E$7*I$21*$C33/($E$6-$E$7*I$21*$C33) -> 7.2496971 | J33: =0.62198*1000*$E$7*J$21*$C33/($E$6-$E$7*J$21*$C33) -> 8.4744427 | K33: =0.62198*1000*$E$7*K$21*$C33/($E$6-$E$7*K$21*$C33) -> 9.7039654 | ... M33: =0.62198*1000*$E$7*M$21*$C33/($E$6-$E$7*M$21*$C33) -> 12.177454 | N33: =1000*(N$19-$E$2*$A33)/($E$4+$E$3*$A33) -> -6.293399 | O33: =1000*(O$19-$E$2*$A33)/($E$4+$E$3*$A33) -> -5.0395417 | P33: =1000*(P$19-$E$2*$A33)/($E$4+$E$3*$A33) -> -3.7078523 | Q33: =1000*(Q$19-$E$2*$A33)/($E$4+$E$3*$A33) -> -2.3282347 | R33: =1000*(R$19-$E$2*$A33)/($E$4+$E$3*$A33) -> -0.90296087 | S33: =1000*(S$19-$E$2*$A33)/($E$4+$E$3*$A33) -> 0.60927253 | T33: =1000*(T$19-$E$2*$A33)/($E$4+$E$3*$A33) -> 2.2189127 | U33: =1000*(U$19-$E$2*$A33)/($E$4+$E$3*$A33) -> 3.937507 | ... AR33: =1000*(AR$19-$E$2*$A33)/($E$4+$E$3*$A33) -> 133.31965
A34: =A33+$B$11 -> 19 | B34: =A34+$E$8 -> 292.15 | C34: =IF(A34<0,EXP($A$2/B34+$A$3+$A$4*B34+$A$5*(B34^2)+$A$6*(B34^3)+$A$7*(B34^4)+$A$8*LN(B34)),EXP($B$2/B34+$B$3+$B$4*B34+$B$5*(B34^2)+$B$6*(B34^3)+$B$7*(B34^4)+$B$8*LN(B34))) -> 2197.7964 | D34: =0.62198*1000*$E$7*D$21*$C34/($E$6-$E$7*D$21*$C34) -> 1.3574623 | E34: =0.62198*1000*$E$7*E$21*$C34/($E$6-$E$7*E$21*$C34) -> 2.7208629 | F34: =0.62198*1000*$E$7*F$21*$C34/($E$6-$E$7*F$21*$C34) -> 4.0902407 | G34: =0.62198*1000*$E$7*G$21*$C34/($E$6-$E$7*G$21*$C34) -> 5.4656353 | H34: =0.62198*1000*$E$7*H$21*$C34/($E$6-$E$7*H$21*$C34) -> 6.8470862 | I34: =0.62198*1000*$E$7*I$21*$C34/($E$6-$E$7*I$21*$C34) -> 8.2346337 | J34: =0.62198*1000*$E$7*J$21*$C34/($E$6-$E$7*J$21*$C34) -> 9.6283182 | K34: =0.62198*1000*$E$7*K$21*$C34/($E$6-$E$7*K$21*$C34) -> 11.02818 | ... M34: =0.62198*1000*$E$7*M$21*$C34/($E$6-$E$7*M$21*$C34) -> 13.846603 | N34: =1000*(N$19-$E$2*$A34)/($E$4+$E$3*$A34) -> -7.0780339 | O34: =1000*(O$19-$E$2*$A34)/($E$4+$E$3*$A34) -> -5.8259619 | P34: =1000*(P$19-$E$2*$A34)/($E$4+$E$3*$A34) -> -4.4961688 | Q34: =1000*(Q$19-$E$2*$A34)/($E$4+$E$3*$A34) -> -3.1185155 | R34: =1000*(R$19-$E$2*$A34)/($E$4+$E$3*$A34) -> -1.6952712 | S34: =1000*(S$19-$E$2*$A34)/($E$4+$E$3*$A34) -> -0.18519102 | T34: =1000*(T$19-$E$2*$A34)/($E$4+$E$3*$A34) -> 1.4221571 | U34: =1000*(U$19-$E$2*$A34)/($E$4+$E$3*$A34) -> 3.1383043 | ... AR34: =1000*(AR$19-$E$2*$A34)/($E$4+$E$3*$A34) -> 132.33622
... A52: =A51+$B$11 -> 55 | B52: =A52+$E$8 -> 328.15 | C52: =IF(A52<0,EXP($A$2/B52+$A$3+$A$4*B52+$A$5*(B52^2)+$A$6*(B52^3)+$A$7*(B52^4)+$A$8*LN(B52)),EXP($B$2/B52+$B$3+$B$4*B52+$B$5*(B52^2)+$B$6*(B52^3)+$B$7*(B52^4)+$B$8*LN(B52))) -> 15759.707 | D52: =0.62198*1000*$E$7*D$21*$C52/($E$6-$E$7*D$21*$C52) -> 9.8668162 | E52: =0.62198*1000*$E$7*E$21*$C52/($E$6-$E$7*E$21*$C52) -> 20.051724 | F52: =0.62198*1000*$E$7*F$21*$C52/($E$6-$E$7*F$21*$C52) -> 30.570358 | G52: =0.62198*1000*$E$7*G$21*$C52/($E$6-$E$7*G$21*$C52) -> 41.439394 | H52: =0.62198*1000*$E$7*H$21*$C52/($E$6-$E$7*H$21*$C52) -> 52.676637 | I52: =0.62198*1000*$E$7*I$21*$C52/($E$6-$E$7*I$21*$C52) -> 64.30112 | J52: =0.62198*1000*$E$7*J$21*$C52/($E$6-$E$7*J$21*$C52) -> 76.333212 | K52: =0.62198*1000*$E$7*K$21*$C52/($E$6-$E$7*K$21*$C52) -> 88.794733 | ... M52: =0.62198*1000*$E$7*M$21*$C52/($E$6-$E$7*M$21*$C52) -> 115.10143 | N52: =1000*(N$19-$E$2*$A52)/($E$4+$E$3*$A52) -> -20.828914 | O52: =1000*(O$19-$E$2*$A52)/($E$4+$E$3*$A52) -> -19.608131 | P52: =1000*(P$19-$E$2*$A52)/($E$4+$E$3*$A52) -> -18.311569 | Q52: =1000*(Q$19-$E$2*$A52)/($E$4+$E$3*$A52) -> -16.968343 | R52: =1000*(R$19-$E$2*$A52)/($E$4+$E$3*$A52) -> -15.580665 | S52: =1000*(S$19-$E$2*$A52)/($E$4+$E$3*$A52) -> -14.108321 | T52: =1000*(T$19-$E$2*$A52)/($E$4+$E$3*$A52) -> -12.54114 | U52: =1000*(U$19-$E$2*$A52)/($E$4+$E$3*$A52) -> -10.867878 | ... AR52: =1000*(AR$19-$E$2*$A52)/($E$4+$E$3*$A52) -> 115.10143
A54: umidificazione | B54: Temperatura di partenza | E54: =DESIGN!V51 -> 19.001116 | G54: Temperatura di partenza | J54: =DESIGN!AC43-DESIGN!V27 -> -5 | K54: riscaldamento | M54: =DESIGN!$C$35 -> External Air
B55: Umidità specifica partenza | E55: =DESIGN!AC45 -> 2.2379342 | G55: Umidità specifica partenza | J55: =DESIGN!AC45 -> 2.2379342 | M55: =DESIGN!$E$37 -> -5
M56: =DESIGN!$W$45 -> 2.2379342
B57: Temperatura arrivo | E57: =DESIGN!W60 -> 19.905815 | G57: Temperatura arrivo | J57: =E54 -> 19.001116
B58: Umidità specifica arrivo | E58: =DESIGN!W61 -> 7.2486087 | G58: Umidità specifica arrivo | J58: =E55 -> 2.2379342
C60: Isoterma | H60: Riscaldamento
C61: t | D61: x | H61: t | I61: x
B62: 1 | C62: =E54 -> 19.001116 | D62: =E55 -> 2.2379342 | G62: 1 | H62: =J54 -> -5 | I62: =J55 -> 2.2379342
B63: =B62+1 -> 2 | C63: =C62+((C$102-C$62)/40) -> 19.023734 | D63: =D62+((D$102-D$62)/40) -> 2.363201 | G63: =G62+1 -> 2 | H63: =H62+((H$102-H$62)/40) -> -4.3999721 | I63: =I62+((I$102-I$62)/40) -> 2.2379342
B64: =B63+1 -> 3 | C64: =C63+((C$102-C$62)/40) -> 19.046351 | D64: =D63+((D$102-D$62)/40) -> 2.4884679 | G64: =G63+1 -> 3 | H64: =H63+((H$102-H$62)/40) -> -3.7999442 | I64: =I63+((I$102-I$62)/40) -> 2.2379342
B65: =B64+1 -> 4 | C65: =C64+((C$102-C$62)/40) -> 19.068969 | D65: =D64+((D$102-D$62)/40) -> 2.6137348 | G65: =G64+1 -> 4 | H65: =H64+((H$102-H$62)/40) -> -3.1999163 | I65: =I64+((I$102-I$62)/40) -> 2.2379342
...

Sheet DESIGN
B26: Choose your language: | E26: ENGLISH
U27: fattore | V27: =GRAFICI!E8 -> 273.15
B28: =LINGUA!B3 -> INSTRUCTIONS: insert input data in grey cells. Results appear in green cells. | U28: c.s. aria J/(°C*g)= | V28: =GRAFICI!E2 -> 1.006 | AA28: =E26 -> ENGLISH
U29: c.s. vapo J/(°C*g)= | V29: =GRAFICI!E3 -> 1.805
B30: =LINGUA!B53 -> STEP 1 | U30: c latente J/g= | V30: =GRAFICI!E4 -> 2501
U31: R Joule/Kmole*°K= | V31: =GRAFICI!E5 -> 8313.6
U32: f s | V32: =GRAFICI!E7 -> 1.004
C33: =LINGUA!B4 -> Altitude a.s.l. | E33: 0 | F33: =LINGUA!B8 -> m | G33: =IF(OR(E33<-300,E33>3000),LINGUA!B5,"") | U33: =GRAFICI!A2 -> -5674.359 | V33: =GRAFICI!B2 -> -5800.2206
U34: =GRAFICI!A3 -> 6.3925247 | V34: =GRAFICI!B3 -> 1.3914993
C35: =LINGUA!B6 -> External Air | U35: =GRAFICI!A4 -> -0.009677843 | V35: =GRAFICI!B4 -> -0.048640239
C36: =LINGUA!B9 -> Relative humidity | E36: 0.9 | F36: =LINGUA!K12 -> rH | H36: =LINGUA!B11 -> Specific humidity | J36: =IF(G33="",W45,0) -> 2.2379342 | K36: =LINGUA!K4 -> g/kg | U36: =GRAFICI!A5 -> 6.2215701e-07 | V36: =GRAFICI!B5 -> 4.1764768e-05
C37: =LINGUA!B10 -> Temperature | E37: -5 | F37: =LINGUA!K6 -> °C | U37: =GRAFICI!A6 -> 2.0747825e-09 | V37: =GRAFICI!B6 -> -1.4452093e-08
U38: =GRAFICI!A7 -> -9.484024e-13 | V38: =GRAFICI!B7 -> 0
U39: =GRAFICI!A8 -> 4.1635019 | V39: =GRAFICI!B8 -> 6.5459673
C40: =LINGUA!B7 -> Air after the humidifier | E40: =IF(OR(J41<J36),LINGUA!B24,"")
C41: =LINGUA!B9 -> Relative humidity | E41: 0.5 | F41: =LINGUA!K12 -> rH | H41: =LINGUA!B11 -> Specific humidity | J41: =Z45 -> 7.2911944 | K41: =LINGUA!K4 -> g/kg | U41: Condizioni dell'aria in ingresso | X41: Condizioni finali dell'aria | AA41: Aria miscelata | AD41: Condizioni dell'aria prima dell'umidificatore
C42: =LINGUA!B10 -> Temperature | E42: 20 | F42: =LINGUA!K6 -> °C | U42: pressione atm Pascal | W42: =101325*(1-0.0000225577*E33)^5.2559 -> 101325 | X42: pressione atm Pascal | Z42: =W42 -> 101325 | AA42: pressione atm Pascal | AC42: =Z42 -> 101325 | AD42: pressione atm Pascal | AF42: =AC42 -> 101325 | AI42: delt t
C43: =LINGUA!B17 -> Percentage of recirculation air | E43: 0 | H43: =IF(OR(AC45>AC46),LINGUA!C24,"") | U43: T t OA °K | W43: =$V$27+E37 -> 268.15 | X43: T t OA °K | Z43: =$V$27+E42 -> 293.15 | AA43: T t OA °K | AC43: =((W43*E77*(1-E43))+(Z43*E77*E43))/E77 -> 268.15 | AD43: T t OA °K | AF43: =+Z43-AI43 -> 292.15112 | AG43: =+AF43-V27 -> 19.001116 | AI43: =(100-(AC43-V27))*(1.9*(Z45-AC45)/1000)/(1.005+1.9*AC45/1000) -> 0.99888368
U44: Pvs t OA Pascal | W44: =IF(W43<$V$27,EXP($U$33/W43+$U$34+$U$35*W43+$U$36*(W43)^2+$U$37*(W43^3)+$U$38*(W43^4)+$U$39*LN(W43)),EXP($V$33/W43+$V$34+$V$35*W43+$V$36*(W43)^2+$V$37*(W43^3)+$V$38*(W43^4)+$V$39*LN(W43))) -> 402.02926 | X44: Pvs t OA Pascal | Z44: =IF(Z43<$V$27,EXP($U$33/Z43+$U$34+$U$35*Z43+$U$36*(Z43)^2+$U$37*(Z43^3)+$U$38*(Z43^4)+$U$39*LN(Z43)),EXP($V$33/Z43+$V$34+$V$35*Z43+$V$36*(Z43)^2+$V$37*(Z43^3)+$V$38*(Z43^4)+$V$39*LN(Z43))) -> 2338.8037 | AA44: Pvs t OA Pascal | AC44: =IF(AC43<$V$27,EXP($U$33/AC43+$U$34+$U$35*AC43+$U$36*(AC43)^2+$U$37*(AC43^3)+$U$38*(AC43^4)+$U$39*LN(AC43)),EXP($V$33/AC43+$V$34+$V$35*AC43+$V$36*(AC43)^2+$V$37*(AC43^3)+$V$38*(AC43^4)+$V$39*LN(AC43))) -> 402.02926 | AD44: Pvs t OA Pascal | AF44: =IF(AF43<$V$27,EXP($U$33/AF43+$U$34+$U$35*AF43+$U$36*(AF43)^2+$U$37*(AF43^3)+$U$38*(AF43^4)+$U$39*LN(AF43)),EXP($V$33/AF43+$V$34+$V$35*AF43+$V$36*(AF43)^2+$V$37*(AF43^3)+$V$38*(AF43^4)+$V$39*LN(AF43))) -> 2197.9495
U45: x OA g/kg | W45: =$V$32*1000*0.62198*E36*W44/(W42-E36*W44) -> 2.2379342 | X45: x OA g/kg | Z45: =$V$32*1000*0.62198*E41*Z44/(Z42-E41*Z44) -> 7.2911944 | AA45: x OA g/kg | AC45: =((W45*E77*(1-E43))+(Z45*E77*E43))/E77 -> 2.2379342 | AD45: x OA g/kg | AF45: =AC45 -> 2.2379342 | AI45: delta x per il calcolo del carico finale
B46: =LINGUA!B13 -> The following diagram shows the isothermal transformation in red. Blue lines represent curves at a fixed relative humidity, while cyan ones are constant-enthalpy curves. | AA46: Limite di condensazione | AC46: =621.98*V32*AC44/(101180.925-V32*AC44) -> 2.4911801 | AI46: =+Z45-AC45 -> 5.0532603
U47: Iterazione per il calcolo della temperatura di setpoint partendo dall'aria prima dell'umidificatore
U48: f2 | V48: =E41 -> 0.5
U49: t1 | V49: =AG43 -> 19.001116
U50: x1 | V50: =AF45 -> 2.2379342
U51: t | V51: =V49 -> 19.001116 | W51: =V51+(V56/V57) -> 19.278743 | X51: =W51+(W56/W57) -> 19.47105 | Y51: =X51+(X56/X57) -> 19.60432 | Z51: =Y51+(Y56/Y57) -> 19.69671 | AA51: =Z51+(Z56/Z57) -> 19.760774 | AB51: =AA51+(AA56/AA57) -> 19.805203 | AC51: =AB51+(AB56/AB57) -> 19.83602 | AD51: =AC51+(AC56/AC57) -> 19.857396 | ... BF51: =BE51+(BE56/BE57) -> 19.905814 | BH51: =BF51+(BF56/BF57) -> 19.905814 | BI51: =BH51+(BH56/BH57) -> 19.905815 | BJ51: =BI51+(BI56/BI57) -> 19.905815 | BK51: =BJ51+(BJ56/BJ57) -> 19.905815 | BL51: =BK51+(BK56/BK57) -> 19.905815 | BM51: =BL51+(BL56/BL57) -> 19.905815 | BN51: =BM51+(BM56/BM57) -> 19.905815 | BO51: =BN51+(BN56/BN57) -> 19.905815 | BP51: =BO51+(BO56/BO57) -> 19.905815 | ... EL51: =EK51+(EK56/EK57) -> 19.905815
U52: T | V52: =V51+$V$27 -> 292.15112 | W52: =W51+$V$27 -> 292.42874 | X52: =X51+$V$27 -> 292.62105 | Y52: =Y51+$V$27 -> 292.75432 | Z52: =Z51+$V$27 -> 292.84671 | AA52: =AA51+$V$27 -> 292.91077 | AB52: =AB51+$V$27 -> 292.9552 | AC52: =AC51+$V$27 -> 292.98602 | ... BF52: =BF51+$V$27 -> 293.05581 | BH52: =BH51+$V$27 -> 293.05581 | BI52: =BI51+$V$27 -> 293.05581 | BJ52: =BJ51+$V$27 -> 293.05581 | BK52: =BK51+$V$27 -> 293.05581 | BL52: =BL51+$V$27 -> 293.05582 | BM52: =BM51+$V$27 -> 293.05582 | BN52: =BN51+$V$27 -> 293.05582 | BO52: =BO51+$V$27 -> 293.05582 | ... EL52: =EL51+$V$27 -> 293.05582
U53: Pvs | V53: =IF(V52<$V$27,EXP($U$33/V52+$U$34+$U$35*V52+$U$36*(V52)^2+$U$37*(V52^3)+$U$38*(V52^4)+$U$39*LN(V52)),EXP($V$33/V52+$V$34+$V$35*V52+$V$36*(V52)^2+$V$37*(V52^3)+$V$38*(V52^4)+$V$39*LN(V52))) -> 2197.9495 | W53: =IF(W52<$V$27,EXP($U$33/W52+$U$34+$U$35*W52+$U$36*(W52)^2+$U$37*(W52^3)+$U$38*(W52^4)+$U$39*LN(W52)),EXP($V$33/W52+$V$34+$V$35*W52+$V$36*(W52)^2+$V$37*(W52^3)+$V$38*(W52^4)+$V$39*LN(W52))) -> 2236.3321 | X53: =IF(X52<$V$27,EXP($U$33/X52+$U$34+$U$35*X52+$U$36*(X52)^2+$U$37*(X52^3)+$U$38*(X52^4)+$U$39*LN(X52)),EXP($V$33/X52+$V$34+$V$35*X52+$V$36*(X52)^2+$V$37*(X52^3)+$V$38*(X52^4)+$V$39*LN(X52))) -> 2263.2618 | Y53: =IF(Y52<$V$27,EXP($U$33/Y52+$U$34+$U$35*Y52+$U$36*(Y52)^2+$U$37*(Y52^3)+$U$38*(Y52^4)+$U$39*LN(Y52)),EXP($V$33/Y52+$V$34+$V$35*Y52+$V$36*(Y52)^2+$V$37*(Y52^3)+$V$38*(Y52^4)+$V$39*LN(Y52))) -> 2282.0907 | Z53: =IF(Z52<$V$27,EXP($U$33/Z52+$U$34+$U$35*Z52+$U$36*(Z52)^2+$U$37*(Z52^3)+$U$38*(Z52^4)+$U$39*LN(Z52)),EXP($V$33/Z52+$V$34+$V$35*Z52+$V$36*(Z52)^2+$V$37*(Z52^3)+$V$38*(Z52^4)+$V$39*LN(Z52))) -> 2295.224 | AA53: =IF(AA52<$V$27,EXP($U$33/AA52+$U$34+$U$35*AA52+$U$36*(AA52)^2+$U$37*(AA52^3)+$U$38*(AA52^4)+$U$39*LN(AA52)),EXP($V$33/AA52+$V$34+$V$35*AA52+$V$36*(AA52)^2+$V$37*(AA52^3)+$V$38*(AA52^4)+$V$39*LN(AA52))) -> 2304.3696 | AB53: =IF(AB52<$V$27,EXP($U$33/AB52+$U$34+$U$35*AB52+$U$36*(AB52)^2+$U$37*(AB52^3)+$U$38*(AB52^4)+$U$39*LN(AB52)),EXP($V$33/AB52+$V$34+$V$35*AB52+$V$36*(AB52)^2+$V$37*(AB52^3)+$V$38*(AB52^4)+$V$39*LN(AB52))) -> 2310.7311 | AC53: =IF(AC52<$V$27,EXP($U$33/AC52+$U$34+$U$35*AC52+$U$36*(AC52)^2+$U$37*(AC52^3)+$U$38*(AC52^4)+$U$39*LN(AC52)),EXP($V$33/AC52+$V$34+$V$35*AC52+$V$36*(AC52)^2+$V$37*(AC52^3)+$V$38*(AC52^4)+$V$39*LN(AC52))) -> 2315.1524 | ... BF53: =IF(BF52<$V$27,EXP($U$33/BF52+$U$34+$U$35*BF52+$U$36*(BF52)^2+$U$37*(BF52^3)+$U$38*(BF52^4)+$U$39*LN(BF52)),EXP($V$33/BF52+$V$34+$V$35*BF52+$V$36*(BF52)^2+$V$37*(BF52^3)+$V$38*(BF52^4)+$V$39*LN(BF52))) -> 2325.1932 | BH53: =IF(BH52<$V$27,EXP($U$33/BH52+$U$34+$U$35*BH52+$U$36*(BH52)^2+$U$37*(BH52^3)+$U$38*(BH52^4)+$U$39*LN(BH52)),EXP($V$33/BH52+$V$34+$V$35*BH52+$V$36*(BH52)^2+$V$37*(BH52^3)+$V$38*(BH52^4)+$V$39*LN(BH52))) -> 2325.1933 | BI53: =IF(BI52<$V$27,EXP($U$33/BI52+$U$34+$U$35*BI52+$U$36*(BI52)^2+$U$37*(BI52^3)+$U$38*(BI52^4)+$U$39*LN(BI52)),EXP($V$33/BI52+$V$34+$V$35*BI52+$V$36*(BI52)^2+$V$37*(BI52^3)+$V$38*(BI52^4)+$V$39*LN(BI52))) -> 2325.1933 | BJ53: =IF(BJ52<$V$27,EXP($U$33/BJ52+$U$34+$U$35*BJ52+$U$36*(BJ52)^2+$U$37*(BJ52^3)+$U$38*(BJ52^4)+$U$39*LN(BJ52)),EXP($V$33/BJ52+$V$34+$V$35*BJ52+$V$36*(BJ52)^2+$V$37*(BJ52^3)+$V$38*(BJ52^4)+$V$39*LN(BJ52))) -> 2325.1934 | BK53: =IF(BK52<$V$27,EXP($U$33/BK52+$U$34+$U$35*BK52+$U$36*(BK52)^2+$U$37*(BK52^3)+$U$38*(BK52^4)+$U$39*LN(BK52)),EXP($V$33/BK52+$V$34+$V$35*BK52+$V$36*(BK52)^2+$V$37*(BK52^3)+$V$38*(BK52^4)+$V$39*LN(BK52))) -> 2325.1934 | BL53: =IF(BL52<$V$27,EXP($U$33/BL52+$U$34+$U$35*BL52+$U$36*(BL52)^2+$U$37*(BL52^3)+$U$38*(BL52^4)+$U$39*LN(BL52)),EXP($V$33/BL52+$V$34+$V$35*BL52+$V$36*(BL52)^2+$V$37*(BL52^3)+$V$38*(BL52^4)+$V$39*LN(BL52))) -> 2325.1934 | BM53: =IF(BM52<$V$27,EXP($U$33/BM52+$U$34+$U$35*BM52+$U$36*(BM52)^2+$U$37*(BM52^3)+$U$38*(BM52^4)+$U$39*LN(BM52)),EXP($V$33/BM52+$V$34+$V$35*BM52+$V$36*(BM52)^2+$V$37*(BM52^3)+$V$38*(BM52^4)+$V$39*LN(BM52))) -> 2325.1934 | BN53: =IF(BN52<$V$27,EXP($U$33/BN52+$U$34+$U$35*BN52+$U$36*(BN52)^2+$U$37*(BN52^3)+$U$38*(BN52^4)+$U$39*LN(BN52)),EXP($V$33/BN52+$V$34+$V$35*BN52+$V$36*(BN52)^2+$V$37*(BN52^3)+$V$38*(BN52^4)+$V$39*LN(BN52))) -> 2325.1934 | BO53: =IF(BO52<$V$27,EXP($U$33/BO52+$U$34+$U$35*BO52+$U$36*(BO52)^2+$U$37*(BO52^3)+$U$38*(BO52^4)+$U$39*LN(BO52)),EXP($V$33/BO52+$V$34+$V$35*BO52+$V$36*(BO52)^2+$V$37*(BO52^3)+$V$38*(BO52^4)+$V$39*LN(BO52))) -> 2325.1934 | ... EL53: =IF(EL52<$V$27,EXP($U$33/EL52+$U$34+$U$35*EL52+$U$36*(EL52)^2+$U$37*(EL52^3)+$U$38*(EL52^4)+$U$39*LN(EL52)),EXP($V$33/EL52+$V$34+$V$35*EL52+$V$36*(EL52)^2+$V$37*(EL52^3)+$V$38*(EL52^4)+$V$39*LN(EL52))) -> 2325.1935
U54: x | V54: =621.98*$V$32*$V$48*V53/($W$42-$V$32*$V$48*V53) -> 6.8475686 | W54: =621.98*$V$32*$V$48*W53/($W$42-$V$32*$V$48*W53) -> 6.9684869 | X54: =621.98*$V$32*$V$48*X53/($W$42-$V$32*$V$48*X53) -> 7.0533524 | Y54: =621.98*$V$32*$V$48*Y53/($W$42-$V$32*$V$48*Y53) -> 7.1127025 | Z54: =621.98*$V$32*$V$48*Z53/($W$42-$V$32*$V$48*Z53) -> 7.1541068 | AA54: =621.98*$V$32*$V$48*AA53/($W$42-$V$32*$V$48*AA53) -> 7.1829424 | AB54: =621.98*$V$32*$V$48*AB53/($W$42-$V$32*$V$48*AB53) -> 7.2030012 | AC54: =621.98*$V$32*$V$48*AC53/($W$42-$V$32*$V$48*AC53) -> 7.2169432 | ... BF54: =621.98*$V$32*$V$48*BF53/($W$42-$V$32*$V$48*BF53) -> 7.2486079 | BH54: =621.98*$V$32*$V$48*BH53/($W$42-$V$32*$V$48*BH53) -> 7.2486082 | BI54: =621.98*$V$32*$V$48*BI53/($W$42-$V$32*$V$48*BI53) -> 7.2486083 | BJ54: =621.98*$V$32*$V$48*BJ53/($W$42-$V$32*$V$48*BJ53) -> 7.2486085 | BK54: =621.98*$V$32*$V$48*BK53/($W$42-$V$32*$V$48*BK53) -> 7.2486085 | BL54: =621.98*$V$32*$V$48*BL53/($W$42-$V$32*$V$48*BL53) -> 7.2486086 | BM54: =621.98*$V$32*$V$48*BM53/($W$42-$V$32*$V$48*BM53) -> 7.2486086 | BN54: =621.98*$V$32*$V$48*BN53/($W$42-$V$32*$V$48*BN53) -> 7.2486087 | BO54: =621.98*$V$32*$V$48*BO53/($W$42-$V$32*$V$48*BO53) -> 7.2486087 | ... EL54: =621.98*$V$32*$V$48*EL53/($W$42-$V$32*$V$48*EL53) -> 7.2486087
U55: z | V55: =($V$49*($V$28+$V$29*(V54/1000))+((V54-$V$50)/1000)*(2685-$V$30))/($V$28+$V$29*(V54/1000)) -> 19.833997 | W55: =($V$49*($V$28+$V$29*(W54/1000))+((W54-$V$50)/1000)*(2685-$V$30))/($V$28+$V$29*(W54/1000)) -> 19.855662 | X55: =($V$49*($V$28+$V$29*(X54/1000))+((X54-$V$50)/1000)*(2685-$V$30))/($V$28+$V$29*(X54/1000)) -> 19.870862 | Y55: =($V$49*($V$28+$V$29*(Y54/1000))+((Y54-$V$50)/1000)*(2685-$V$30))/($V$28+$V$29*(Y54/1000)) -> 19.881489 | Z55: =($V$49*($V$28+$V$29*(Z54/1000))+((Z54-$V$50)/1000)*(2685-$V$30))/($V$28+$V$29*(Z54/1000)) -> 19.888901 | AA55: =($V$49*($V$28+$V$29*(AA54/1000))+((AA54-$V$50)/1000)*(2685-$V$30))/($V$28+$V$29*(AA54/1000)) -> 19.894063 | AB55: =($V$49*($V$28+$V$29*(AB54/1000))+((AB54-$V$50)/1000)*(2685-$V$30))/($V$28+$V$29*(AB54/1000)) -> 19.897653 | AC55: =($V$49*($V$28+$V$29*(AC54/1000))+((AC54-$V$50)/1000)*(2685-$V$30))/($V$28+$V$29*(AC54/1000)) -> 19.900148 | ... BF55: =($V$49*($V$28+$V$29*(BF54/1000))+((BF54-$V$50)/1000)*(2685-$V$30))/($V$28+$V$29*(BF54/1000)) -> 19.905815 | BH55: =($V$49*($V$28+$V$29*(BH54/1000))+((BH54-$V$50)/1000)*(2685-$V$30))/($V$28+$V$29*(BH54/1000)) -> 19.905815 | BI55: =($V$49*($V$28+$V$29*(BI54/1000))+((BI54-$V$50)/1000)*(2685-$V$30))/($V$28+$V$29*(BI54/1000)) -> 19.905815 | BJ55: =($V$49*($V$28+$V$29*(BJ54/1000))+((BJ54-$V$50)/1000)*(2685-$V$30))/($V$28+$V$29*(BJ54/1000)) -> 19.905815 | BK55: =($V$49*($V$28+$V$29*(BK54/1000))+((BK54-$V$50)/1000)*(2685-$V$30))/($V$28+$V$29*(BK54/1000)) -> 19.905815 | BL55: =($V$49*($V$28+$V$29*(BL54/1000))+((BL54-$V$50)/1000)*(2685-$V$30))/($V$28+$V$29*(BL54/1000)) -> 19.905815 | BM55: =($V$49*($V$28+$V$29*(BM54/1000))+((BM54-$V$50)/1000)*(2685-$V$30))/($V$28+$V$29*(BM54/1000)) -> 19.905815 | BN55: =($V$49*($V$28+$V$29*(BN54/1000))+((BN54-$V$50)/1000)*(2685-$V$30))/($V$28+$V$29*(BN54/1000)) -> 19.905815 | BO55: =($V$49*($V$28+$V$29*(BO54/1000))+((BO54-$V$50)/1000)*(2685-$V$30))/($V$28+$V$29*(BO54/1000)) -> 19.905815 | ... EL55: =($V$49*($V$28+$V$29*(EL54/1000))+((EL54-$V$50)/1000)*(2685-$V$30))/($V$28+$V$29*(EL54/1000)) -> 19.905815
U56: Dz | V56: =V55-V51 -> 0.83288116 | W56: =W55-W51 -> 0.57691879 | X56: =X55-X51 -> 0.39981217 | Y56: =Y55-Y51 -> 0.2771685 | Z56: =Z55-Z51 -> 0.19219139 | AA56: =AA55-AA51 -> 0.13328926 | AB56: =AB55-AB51 -> 0.092449773 | AC56: =AC55-AC51 -> 0.064128478 | ... BF56: =BF55-BF51 -> 1.5934775e-06 | BH56: =BH55-BH51 -> 1.1055264e-06 | BI56: =BI55-BI51 -> 7.6699455e-07 | BJ56: =BJ55-BJ51 -> 5.3212719e-07 | BK56: =BK55-BK51 -> 3.6918039e-07 | BL56: =BL55-BL51 -> 2.5613079e-07 | BM56: =BM55-BM51 -> 1.77699e-07 | BN56: =BN55-BN51 -> 1.2328441e-07 | BO56: =BO55-BO51 -> 8.5532516e-08 | ... EL56: =EL55-EL51 -> 0
U57: k | V57: =GRAFICI!M3 -> 3 | W57: =V57 -> 3 | X57: =W57 -> 3 | Y57: =X57 -> 3 | Z57: =Y57 -> 3 | AA57: =Z57 -> 3 | AB57: =AA57 -> 3 | AC57: =AB57 -> 3 | AD57: =AC57 -> 3 | ... BF57: =BE57 -> 3 | BH57: =BF57 -> 3 | BI57: =BH57 -> 3 | BJ57: =BI57 -> 3 | BK57: =BJ57 -> 3 | BL57: =BK57 -> 3 | BM57: =BL57 -> 3 | BN57: =BM57 -> 3 | BO57: =BN57 -> 3 | BP57: =BO57 -> 3 | ... EL57: =EK57 -> 3
U59: Errore | W59: =EL56 -> 0
U60: Temperatura °C | W60: =AVERAGE(EL51,EL55) -> 19.905815
U61: Umidità specifica g/kg | W61: =DZ54 -> 7.2486087
U64: Tabella UE*X | AI64: Tabella UR*H | AU64: Tabella UE*Y
